BEGIN:VCALENDAR
VERSION:2.0
PRODID:-//Georgia World War II Heritage Trail - ECPv6.15.17.1//NONSGML v1.0//EN
CALSCALE:GREGORIAN
METHOD:PUBLISH
X-WR-CALNAME:Georgia World War II Heritage Trail
X-ORIGINAL-URL:https://www.georgiawwiitrail.org
X-WR-CALDESC:Events for Georgia World War II Heritage Trail
REFRESH-INTERVAL;VALUE=DURATION:PT1H
X-Robots-Tag:noindex
X-PUBLISHED-TTL:PT1H
BEGIN:VTIMEZONE
TZID:America/Halifax
BEGIN:DAYLIGHT
TZOFFSETFROM:-0400
TZOFFSETTO:-0300
TZNAME:ADT
DTSTART:20220313T060000
END:DAYLIGHT
BEGIN:STANDARD
TZOFFSETFROM:-0300
TZOFFSETTO:-0400
TZNAME:AST
DTSTART:20221106T050000
END:STANDARD
BEGIN:DAYLIGHT
TZOFFSETFROM:-0400
TZOFFSETTO:-0300
TZNAME:ADT
DTSTART:20230312T060000
END:DAYLIGHT
BEGIN:STANDARD
TZOFFSETFROM:-0300
TZOFFSETTO:-0400
TZNAME:AST
DTSTART:20231105T050000
END:STANDARD
BEGIN:DAYLIGHT
TZOFFSETFROM:-0400
TZOFFSETTO:-0300
TZNAME:ADT
DTSTART:20240310T060000
END:DAYLIGHT
BEGIN:STANDARD
TZOFFSETFROM:-0300
TZOFFSETTO:-0400
TZNAME:AST
DTSTART:20241103T050000
END:STANDARD
END:VTIMEZONE
BEGIN:VEVENT
DTSTART;TZID=America/Halifax:20231212T173000
DTEND;TZID=America/Halifax:20231212T193000
DTSTAMP:20260421T024639
CREATED:20231212T182214Z
LAST-MODIFIED:20240126T180147Z
UID:1690-1702402200-1702409400@www.georgiawwiitrail.org
SUMMARY:Festival of Trees Reception
DESCRIPTION:The Museum of Aviation Foundation invites you to our Festival of Trees Reception celebrating the holidays\, our Tree Sponsors\, and elected officials on Tuesday\, December 12th\, from 5:30pm-7:30pm. Please join us for a magical evening of Christmas music\, hors d’oeuvres\, a cash bar\, Santa and his elves\, gift shop discounts and the spectacular Festival of Trees. Most importantly\, come vote for your favorite holiday tree! \n-Location: Museum of Aviation Eagle Bldg. – Rotunda\n-Cost is $25/each\n-Light hors d’oeuvres\n-Cash bar\n-Tree Sponsors – 2 free entry tickets\n-Music playing throughout the affair\n-Gift Shop will be open with a 10% discount\n-One free vote for best tree to each attendee\n-Attire: (Holiday) Business Casua
URL:https://www.georgiawwiitrail.org/event/festival-of-trees-reception/
LOCATION:Museum of Aviation\, 1942 Heritage Boulevard\, Warner Robins\, GA\, 31098\, United States
CATEGORIES:Museum of Aviation
ATTACH;FMTTYPE=image/jpeg:https://www.georgiawwiitrail.org/wp-content/uploads/2023/12/400728803_743988934440040_4217064751219622411_n.jpg
END:VEVENT
BEGIN:VEVENT
DTSTART;TZID=America/Halifax:20231213T064500
DTEND;TZID=America/Halifax:20231213T140000
DTSTAMP:20260421T024639
CREATED:20231212T182504Z
LAST-MODIFIED:20240126T180122Z
UID:1693-1702449900-1702476000@www.georgiawwiitrail.org
SUMMARY:The 28th Annual "Run for Aviation"
DESCRIPTION:The 28th Annual Museum of Aviation Foundation Marathon\, Half-Marathon\, 5K Run/Walk\, and Para Athletes Race will be held at the Museum of Aviation on Saturday\, January 13\, 2024. The races will be run on Robins Air Force Base next to the Museum of Aviation. The marathon course is USA Track and Field certified making it a Boston Marathon qualifier. \nProceeds from the growing annual event benefit the Museum of Aviation\, one of the largest education-focused aviation museums in the country. We are home to the National STEM Academy! \nWe also offer a virtual option for those who want to participate but not able to attend the in-person event. All participants will receive a t-shirt\, medal and race packet. Shirts\, medals and packets can be picked up January 12th between 2:00 and 4:00 p.m. at the Museum or a mail option is available. Shipping fee applies. $8.00 within continental US and $25 outside continental US. \nThis great event was recognized by Well+Good as one of the top handcycle marathons in the US. Take a moment to read the article here.
URL:https://www.georgiawwiitrail.org/event/the-28th-annual-run-for-aviation/
LOCATION:Museum of Aviation\, 1942 Heritage Boulevard\, Warner Robins\, GA\, 31098\, United States
CATEGORIES:Museum of Aviation
ATTACH;FMTTYPE=image/jpeg:https://www.georgiawwiitrail.org/wp-content/uploads/2023/12/344859203_583576460583318_1832527858797811549_n.jpg
END:VEVENT
END:VCALENDAR