BEGIN:VCALENDAR
VERSION:2.0
PRODID:-//Georgia World War II Heritage Trail - ECPv6.15.17.1//NONSGML v1.0//EN
CALSCALE:GREGORIAN
METHOD:PUBLISH
X-ORIGINAL-URL:https://www.georgiawwiitrail.org
X-WR-CALDESC:Events for Georgia World War II Heritage Trail
REFRESH-INTERVAL;VALUE=DURATION:PT1H
X-Robots-Tag:noindex
X-PUBLISHED-TTL:PT1H
BEGIN:VTIMEZONE
TZID:America/Halifax
BEGIN:DAYLIGHT
TZOFFSETFROM:-0400
TZOFFSETTO:-0300
TZNAME:ADT
DTSTART:20230312T060000
END:DAYLIGHT
BEGIN:STANDARD
TZOFFSETFROM:-0300
TZOFFSETTO:-0400
TZNAME:AST
DTSTART:20231105T050000
END:STANDARD
BEGIN:DAYLIGHT
TZOFFSETFROM:-0400
TZOFFSETTO:-0300
TZNAME:ADT
DTSTART:20240310T060000
END:DAYLIGHT
BEGIN:STANDARD
TZOFFSETFROM:-0300
TZOFFSETTO:-0400
TZNAME:AST
DTSTART:20241103T050000
END:STANDARD
BEGIN:DAYLIGHT
TZOFFSETFROM:-0400
TZOFFSETTO:-0300
TZNAME:ADT
DTSTART:20250309T060000
END:DAYLIGHT
BEGIN:STANDARD
TZOFFSETFROM:-0300
TZOFFSETTO:-0400
TZNAME:AST
DTSTART:20251102T050000
END:STANDARD
END:VTIMEZONE
BEGIN:VEVENT
DTSTART;TZID=America/Halifax:20240202T140000
DTEND;TZID=America/Halifax:20240202T160000
DTSTAMP:20260420T232136
CREATED:20231212T181944Z
LAST-MODIFIED:20240126T180055Z
UID:1685-1706882400-1706889600@www.georgiawwiitrail.org
SUMMARY:Heritage Series III: Remembering "Greenland Expedition"
DESCRIPTION:On July 15\, 1942\, poor weather and limited visibility forced six P-38 fighters and two B-17 bombers to return to Greenland while they were en route to the British Isles during the buildup of US forces in the United Kingdom\, Operation Bolero. \nThe aircraft made emergency landings on an ice field\, and all the crew members were rescued\, but the planes had to be abandoned. P-38 Glacier Girl\, and the five other fightersP-38 Glacier Girl\, and the two B-17s were left untouched on the ice field and became buried under 268 feet of snow and ice that had slowly built up over the decades. \nIn 1992\, 50 years later\, members of the Greenland Expedition Society\, after years of searching and excavation\, brought the Glacier Girl back to the surface. \nCome hear the stories and meet members of the team that accomplished this amazing recovery! \nThis is a FREE event\, but you do have the opportunity to reserve a seat! To reserve your free seat\,
URL:https://www.georgiawwiitrail.org/event/heritage-series-iii-remembering-greenland-expedition/
LOCATION:Museum of Aviation\, 1942 Heritage Boulevard\, Warner Robins\, GA\, 31098\, United States
CATEGORIES:Museum of Aviation
ATTACH;FMTTYPE=image/jpeg:https://www.georgiawwiitrail.org/wp-content/uploads/2023/12/400680191_744501387722128_3504173606886260635_n.jpg
END:VEVENT
END:VCALENDAR