BEGIN:VCALENDAR
VERSION:2.0
PRODID:-//Georgia World War II Heritage Trail - ECPv6.15.17.1//NONSGML v1.0//EN
CALSCALE:GREGORIAN
METHOD:PUBLISH
X-ORIGINAL-URL:https://www.georgiawwiitrail.org
X-WR-CALDESC:Events for Georgia World War II Heritage Trail
REFRESH-INTERVAL;VALUE=DURATION:PT1H
X-Robots-Tag:noindex
X-PUBLISHED-TTL:PT1H
BEGIN:VTIMEZONE
TZID:America/Halifax
BEGIN:DAYLIGHT
TZOFFSETFROM:-0400
TZOFFSETTO:-0300
TZNAME:ADT
DTSTART:20220313T060000
END:DAYLIGHT
BEGIN:STANDARD
TZOFFSETFROM:-0300
TZOFFSETTO:-0400
TZNAME:AST
DTSTART:20221106T050000
END:STANDARD
BEGIN:DAYLIGHT
TZOFFSETFROM:-0400
TZOFFSETTO:-0300
TZNAME:ADT
DTSTART:20230312T060000
END:DAYLIGHT
BEGIN:STANDARD
TZOFFSETFROM:-0300
TZOFFSETTO:-0400
TZNAME:AST
DTSTART:20231105T050000
END:STANDARD
BEGIN:DAYLIGHT
TZOFFSETFROM:-0400
TZOFFSETTO:-0300
TZNAME:ADT
DTSTART:20240310T060000
END:DAYLIGHT
BEGIN:STANDARD
TZOFFSETFROM:-0300
TZOFFSETTO:-0400
TZNAME:AST
DTSTART:20241103T050000
END:STANDARD
END:VTIMEZONE
BEGIN:VEVENT
DTSTART;TZID=America/Halifax:20231207T100000
DTEND;TZID=America/Halifax:20231207T170000
DTSTAMP:20260420T175148
CREATED:20231129T173821Z
LAST-MODIFIED:20240126T171232Z
UID:1509-1701943200-1701968400@www.georgiawwiitrail.org
SUMMARY:Pearl Harbor Remembrance Day Ceremony
DESCRIPTION:Join the Douglas-Coffee County Veterans Park Committee and partner to honor and remember those who served and died for our freedom. \nIn the event of rain\, the program will be cancelled.
URL:https://www.georgiawwiitrail.org/event/pearl-harbor-remembrance-day-ceremony/
LOCATION:Veterans Park at Douglass Municipal Airport\, 440 Elton D. Brooks Blvd.\, Douglas\, GA\, 31535\, United States
CATEGORIES:World War II Flight Training Museum
ATTACH;FMTTYPE=image/jpeg:https://www.georgiawwiitrail.org/wp-content/uploads/2023/11/Pearl-Harbor-Remembrance-Flyer-3.jpg
END:VEVENT
BEGIN:VEVENT
DTSTART;TZID=America/Halifax:20231212T120000
DTEND;TZID=America/Halifax:20231212T170000
DTSTAMP:20260420T175148
CREATED:20231201T175831Z
LAST-MODIFIED:20240126T171254Z
UID:1673-1702382400-1702400400@www.georgiawwiitrail.org
SUMMARY:Covered Wagon Country Buffet
DESCRIPTION:WWII Flight Training Museum Speaks to the local Rotatory Club about the Georgia WWII Heritage Trail
URL:https://www.georgiawwiitrail.org/event/covered-wagon-country-buffet/
LOCATION:Covered Wagon Country Buffet\, 2639 US Highway 441 S\, Douglas\, GA\, 31535\, United States
CATEGORIES:World War II Flight Training Museum
END:VEVENT
END:VCALENDAR