BEGIN:VCALENDAR
VERSION:2.0
PRODID:-//Georgia World War II Heritage Trail - ECPv6.15.17.1//NONSGML v1.0//EN
CALSCALE:GREGORIAN
METHOD:PUBLISH
X-ORIGINAL-URL:https://www.georgiawwiitrail.org
X-WR-CALDESC:Events for Georgia World War II Heritage Trail
REFRESH-INTERVAL;VALUE=DURATION:PT1H
X-Robots-Tag:noindex
X-PUBLISHED-TTL:PT1H
BEGIN:VTIMEZONE
TZID:America/Halifax
BEGIN:DAYLIGHT
TZOFFSETFROM:-0400
TZOFFSETTO:-0300
TZNAME:ADT
DTSTART:20230312T060000
END:DAYLIGHT
BEGIN:STANDARD
TZOFFSETFROM:-0300
TZOFFSETTO:-0400
TZNAME:AST
DTSTART:20231105T050000
END:STANDARD
BEGIN:DAYLIGHT
TZOFFSETFROM:-0400
TZOFFSETTO:-0300
TZNAME:ADT
DTSTART:20240310T060000
END:DAYLIGHT
BEGIN:STANDARD
TZOFFSETFROM:-0300
TZOFFSETTO:-0400
TZNAME:AST
DTSTART:20241103T050000
END:STANDARD
BEGIN:DAYLIGHT
TZOFFSETFROM:-0400
TZOFFSETTO:-0300
TZNAME:ADT
DTSTART:20250309T060000
END:DAYLIGHT
BEGIN:STANDARD
TZOFFSETFROM:-0300
TZOFFSETTO:-0400
TZNAME:AST
DTSTART:20251102T050000
END:STANDARD
END:VTIMEZONE
BEGIN:VEVENT
DTSTART;TZID=America/Halifax:20241111T110000
DTEND;TZID=America/Halifax:20241111T113000
DTSTAMP:20260420T010322
CREATED:20241031T160037Z
LAST-MODIFIED:20241031T160603Z
UID:2741-1731322800-1731324600@www.georgiawwiitrail.org
SUMMARY:Veterans Day Bells of Peace
DESCRIPTION:The WWII Flight Training Museum in conjunction with the Douglas Coffee County Veterans Park Committee and South Georgia State College plans to broadcast the Bells of Peace over the college giant voice alert system. With the destruction from Hurricane Helene to the college campus\, this may not be possible. We ask that you access the Bells of Peace webapp on your smartphone or computer at https://2023.bellsofpeace.org/index.php/your-bells-webapp.  \nThe Bells of Peace marks a National U.S. remembrance initiated in 2018\, to honor the WWI Armistice on its 100th anniversary. Ever since\, the Doughboy Foundation has promoted the annual remembrance with tens of thousands having rung the Bells of Peace at 11am on Veterans Day\, to salute all Americans who served their nation in both conflict and times of peace.  \nThe event includes countdown to Bells of Peace\, the tolling of the bells 21 times\, followed by a moment of reflection\, selection of readings\, then the playing of Taps. We asked everyone to toll the bells on Veterans Day. It is our hope that this becomes an annual event for you to honor all who served in our Nation’s military. Will you toll the bells?
URL:https://www.georgiawwiitrail.org/event/veterans-day-bells-of-peace/
LOCATION:WWII Flight Training Base Douglas\, GA\, 1 Airport Circle\, DOUGLAS\, GA\, 31533\, United States
CATEGORIES:World War II Flight Training Museum
END:VEVENT
BEGIN:VEVENT
DTSTART;TZID=America/Halifax:20241122T100000
DTEND;TZID=America/Halifax:20241122T110000
DTSTAMP:20260420T010322
CREATED:20241028T200621Z
LAST-MODIFIED:20241028T200621Z
UID:2722-1732269600-1732273200@www.georgiawwiitrail.org
SUMMARY:Cadet Park and Charles Loring Memorial Dedication
DESCRIPTION:
URL:https://www.georgiawwiitrail.org/event/cadet-park-and-charles-loring-memorial-dedication/
LOCATION:WWII Flight Training Base Douglas\, GA\, 1 Airport Circle\, DOUGLAS\, GA\, 31533\, United States
CATEGORIES:World War II Flight Training Museum
ATTACH;FMTTYPE=image/png:https://www.georgiawwiitrail.org/wp-content/uploads/2024/10/Ribbon-Cutting-Invitation-1.png
END:VEVENT
END:VCALENDAR