BEGIN:VCALENDAR
VERSION:2.0
PRODID:-//Georgia World War II Heritage Trail - ECPv6.15.17.1//NONSGML v1.0//EN
CALSCALE:GREGORIAN
METHOD:PUBLISH
X-WR-CALNAME:Georgia World War II Heritage Trail
X-ORIGINAL-URL:https://www.georgiawwiitrail.org
X-WR-CALDESC:Events for Georgia World War II Heritage Trail
REFRESH-INTERVAL;VALUE=DURATION:PT1H
X-Robots-Tag:noindex
X-PUBLISHED-TTL:PT1H
BEGIN:VTIMEZONE
TZID:America/Halifax
BEGIN:DAYLIGHT
TZOFFSETFROM:-0400
TZOFFSETTO:-0300
TZNAME:ADT
DTSTART:20240310T060000
END:DAYLIGHT
BEGIN:STANDARD
TZOFFSETFROM:-0300
TZOFFSETTO:-0400
TZNAME:AST
DTSTART:20241103T050000
END:STANDARD
BEGIN:DAYLIGHT
TZOFFSETFROM:-0400
TZOFFSETTO:-0300
TZNAME:ADT
DTSTART:20250309T060000
END:DAYLIGHT
BEGIN:STANDARD
TZOFFSETFROM:-0300
TZOFFSETTO:-0400
TZNAME:AST
DTSTART:20251102T050000
END:STANDARD
BEGIN:DAYLIGHT
TZOFFSETFROM:-0400
TZOFFSETTO:-0300
TZNAME:ADT
DTSTART:20260308T060000
END:DAYLIGHT
BEGIN:STANDARD
TZOFFSETFROM:-0300
TZOFFSETTO:-0400
TZNAME:AST
DTSTART:20261101T050000
END:STANDARD
END:VTIMEZONE
BEGIN:VEVENT
DTSTART;TZID=America/Halifax:20250221T080000
DTEND;TZID=America/Halifax:20250221T170000
DTSTAMP:20260419T200932
CREATED:20250130T174936Z
LAST-MODIFIED:20250130T174936Z
UID:2958-1740124800-1740157200@www.georgiawwiitrail.org
SUMMARY:GA WWII Heritage Trail Anniversary
DESCRIPTION:Happy Fourth Anniversary to our Trail Partners!  On February 16\, 2021\, the Georgia WWII Heritage Trail was launched. “Discover Georgia’s legacy of inspiring wartime stories at the sites that make up the new World War II Heritage Trail. Southern states were critical to the war effort during World War II (1941-1945)\, and none more so than Georgia. Over 300\,000 Georgians served in the military\, and thousands of civilians worked in rapidly expanding defense industries. Ten sites across the state have partnered to bring a new experience to visitors\, families\, and groups.”  We are now eleven Partners with more stories to tell of the Greatest Generation. See you on the Trail.
URL:https://www.georgiawwiitrail.org/event/ga-wwii-heritage-trail-anniversary/
LOCATION:GA
CATEGORIES:World War II Flight Training Museum
END:VEVENT
END:VCALENDAR